Package: rhdf5client Version: 1.33.0 Command: /home/biocbuild/bbs-3.23-bioc/R/bin/R CMD INSTALL rhdf5client StartedAt: 2025-11-20 15:15:51 -0500 (Thu, 20 Nov 2025) EndedAt: 2025-11-20 15:16:10 -0500 (Thu, 20 Nov 2025) EllapsedTime: 18.7 seconds RetCode: 0 Status: OK