Package: rhdf5client Version: 1.33.0 Command: /home/biocbuild/bbs-3.23-bioc/R/bin/R CMD check --install=check:rhdf5client.install-out.txt --library=/home/biocbuild/bbs-3.23-bioc/R/site-library --timings rhdf5client_1.33.0.tar.gz StartedAt: 2025-11-22 03:13:00 -0500 (Sat, 22 Nov 2025) EndedAt: 2025-11-22 03:15:19 -0500 (Sat, 22 Nov 2025) EllapsedTime: 139.3 seconds RetCode: 0 Status: OK CheckDir: rhdf5client.Rcheck Warnings: 0