Package: rhdf5client Version: 1.33.0 Command: /home/biocbuild/bbs-3.23-bioc/R/bin/R CMD build --keep-empty-dirs --no-resave-data rhdf5client StartedAt: 2025-11-20 19:35:54 -0500 (Thu, 20 Nov 2025) EndedAt: 2025-11-20 19:36:23 -0500 (Thu, 20 Nov 2025) EllapsedTime: 29.0 seconds RetCode: 0 Status: OK PackageFile: rhdf5client_1.33.0.tar.gz PackageFileSize: 532.6 KiB