Package: rhdf5client Version: 1.31.0 Maintainer: Vincent Carey MaintainerEmail: stvjc at channing.harvard.edu git_url: https://git.bioconductor.org/packages/rhdf5client git_branch: devel git_last_commit: ade8ece git_last_commit_date: 2025-04-15 11:15:29 -0400 (Tue, 15 Apr 2025)