Package: rhdf5 Version: 2.55.11 Command: /home/biocbuild/bbs-3.23-bioc/R/bin/R CMD INSTALL rhdf5 StartedAt: 2025-11-20 15:06:19 -0500 (Thu, 20 Nov 2025) EndedAt: 2025-11-20 15:06:59 -0500 (Thu, 20 Nov 2025) EllapsedTime: 39.7 seconds RetCode: 0 Status: OK