Package: rhdf5 Version: 2.55.11 Command: /home/biocbuild/bbs-3.23-bioc/R/bin/R CMD build --keep-empty-dirs --no-resave-data rhdf5 StartedAt: 2025-11-20 19:35:54 -0500 (Thu, 20 Nov 2025) EndedAt: 2025-11-20 19:41:19 -0500 (Thu, 20 Nov 2025) EllapsedTime: 325.3 seconds RetCode: 0 Status: OK PackageFile: rhdf5_2.55.11.tar.gz PackageFileSize: 1.151 MiB