Package: rhdf5 Version: 2.53.6 Command: /Library/Frameworks/R.framework/Resources/bin/R CMD INSTALL rhdf5 StartedAt: 2025-10-22 15:11:51 -0400 (Wed, 22 Oct 2025) EndedAt: 2025-10-22 15:12:14 -0400 (Wed, 22 Oct 2025) EllapsedTime: 23.6 seconds RetCode: 0 Status: OK