Package: rgsepd Version: 1.41.0 Command: /home/biocbuild/bbs-3.22-bioc/R/bin/R CMD INSTALL rgsepd StartedAt: 2025-10-05 15:41:26 -0400 (Sun, 05 Oct 2025) EndedAt: 2025-10-05 15:43:50 -0400 (Sun, 05 Oct 2025) EllapsedTime: 143.9 seconds RetCode: 0 Status: OK