Package: rgoslin Version: 1.15.0 Command: /home/biocbuild/bbs-3.23-bioc/R/bin/R CMD INSTALL rgoslin StartedAt: 2025-11-20 15:08:22 -0500 (Thu, 20 Nov 2025) EndedAt: 2025-11-20 15:11:05 -0500 (Thu, 20 Nov 2025) EllapsedTime: 162.8 seconds RetCode: 0 Status: OK