Package: rgoslin Version: 1.15.0 Command: /home/biocbuild/bbs-3.23-bioc/R/bin/R CMD build --keep-empty-dirs --no-resave-data rgoslin StartedAt: 2025-11-20 19:35:38 -0500 (Thu, 20 Nov 2025) EndedAt: 2025-11-20 19:38:36 -0500 (Thu, 20 Nov 2025) EllapsedTime: 177.2 seconds RetCode: 0 Status: OK PackageFile: rgoslin_1.15.0.tar.gz PackageFileSize: 730.6 KiB