Package: rfaRm Version: 1.21.0 Command: /home/biocbuild/R/R/bin/R CMD build --keep-empty-dirs --no-resave-data rfaRm StartedAt: 2025-10-14 02:56:53 -0000 (Tue, 14 Oct 2025) EndedAt: 2025-10-14 02:57:46 -0000 (Tue, 14 Oct 2025) EllapsedTime: 53.0 seconds RetCode: 0 Status: OK PackageFile: rfaRm_1.21.0.tar.gz PackageFileSize: 586.2 KiB