Package: rfaRm Version: 1.21.0 Command: chmod a+r rfaRm -R && F:\biocbuild\bbs-3.22-bioc\R\bin\R.exe CMD build --keep-empty-dirs --no-resave-data rfaRm StartedAt: 2025-08-14 22:44:19 -0400 (Thu, 14 Aug 2025) EndedAt: 2025-08-14 22:45:17 -0400 (Thu, 14 Aug 2025) EllapsedTime: 58.6 seconds RetCode: 0 Status: OK PackageFile: rfaRm_1.21.0.tar.gz PackageFileSize: 441.7 KiB