Package: rfaRm Version: 1.23.0 Command: /home/biocbuild/bbs-3.23-bioc/R/bin/R CMD check --install=check:rfaRm.install-out.txt --library=/home/biocbuild/bbs-3.23-bioc/R/site-library --timings rfaRm_1.23.0.tar.gz StartedAt: 2025-11-07 02:56:22 -0500 (Fri, 07 Nov 2025) EndedAt: 2025-11-07 02:59:17 -0500 (Fri, 07 Nov 2025) EllapsedTime: 174.4 seconds RetCode: 0 Status: OK CheckDir: rfaRm.Rcheck Warnings: 0