Package: rfaRm Version: 1.23.0 Command: /home/biocbuild/bbs-3.23-bioc/R/bin/R CMD build --keep-empty-dirs --no-resave-data rfaRm StartedAt: 2025-11-04 19:29:49 -0500 (Tue, 04 Nov 2025) EndedAt: 2025-11-04 19:30:37 -0500 (Tue, 04 Nov 2025) EllapsedTime: 48.2 seconds RetCode: 0 Status: OK PackageFile: rfaRm_1.23.0.tar.gz PackageFileSize: 760.3 KiB