Package: rfaRm Version: 1.21.0 Command: /Library/Frameworks/R.framework/Resources/bin/R CMD INSTALL rfaRm StartedAt: 2025-10-12 15:33:12 -0400 (Sun, 12 Oct 2025) EndedAt: 2025-10-12 15:33:36 -0400 (Sun, 12 Oct 2025) EllapsedTime: 24.3 seconds RetCode: 0 Status: OK