Package: rfaRm Version: 1.21.0 Command: /Library/Frameworks/R.framework/Resources/bin/R CMD build --keep-empty-dirs --no-resave-data rfaRm StartedAt: 2025-10-12 18:52:20 -0400 (Sun, 12 Oct 2025) EndedAt: 2025-10-12 18:53:23 -0400 (Sun, 12 Oct 2025) EllapsedTime: 63.3 seconds RetCode: 0 Status: OK PackageFile: rfaRm_1.21.0.tar.gz PackageFileSize: 562 KiB