Package: rfPred Version: 1.47.1 Command: /home/biocbuild/R/R/bin/R CMD INSTALL rfPred StartedAt: 2025-10-16 21:29:13 -0000 (Thu, 16 Oct 2025) EndedAt: 2025-10-16 21:29:28 -0000 (Thu, 16 Oct 2025) EllapsedTime: 14.6 seconds RetCode: 0 Status: OK