Package: rfPred Version: 1.47.1 Command: /home/biocbuild/R/R/bin/R CMD build --keep-empty-dirs --no-resave-data rfPred StartedAt: 2025-10-14 02:57:15 -0000 (Tue, 14 Oct 2025) EndedAt: 2025-10-14 02:57:38 -0000 (Tue, 14 Oct 2025) EllapsedTime: 23.0 seconds RetCode: 0 Status: OK PackageFile: rfPred_1.47.1.tar.gz PackageFileSize: 1.045 MiB