Package: rfPred Version: 1.47.1 Command: /home/biocbuild/bbs-3.22-bioc/R/bin/R CMD check --install=check:rfPred.install-out.txt --library=/home/biocbuild/bbs-3.22-bioc/R/site-library --timings rfPred_1.47.1.tar.gz StartedAt: 2025-10-11 03:41:32 -0400 (Sat, 11 Oct 2025) EndedAt: 2025-10-11 03:42:58 -0400 (Sat, 11 Oct 2025) EllapsedTime: 86.1 seconds RetCode: 0 Status: OK CheckDir: rfPred.Rcheck Warnings: 0