Package: rfPred Version: 1.49.0 Command: /home/biocbuild/bbs-3.23-bioc/R/bin/R CMD check --install=check:rfPred.install-out.txt --library=/home/biocbuild/bbs-3.23-bioc/R/site-library --timings rfPred_1.49.0.tar.gz StartedAt: 2025-11-24 03:08:57 -0500 (Mon, 24 Nov 2025) EndedAt: 2025-11-24 03:10:23 -0500 (Mon, 24 Nov 2025) EllapsedTime: 86.1 seconds RetCode: 0 Status: OK CheckDir: rfPred.Rcheck Warnings: 0