Package: rfPred Version: 1.49.0 Command: /home/biocbuild/bbs-3.23-bioc/R/bin/R CMD build --keep-empty-dirs --no-resave-data rfPred StartedAt: 2025-11-04 19:30:08 -0500 (Tue, 04 Nov 2025) EndedAt: 2025-11-04 19:30:26 -0500 (Tue, 04 Nov 2025) EllapsedTime: 18.1 seconds RetCode: 0 Status: OK PackageFile: rfPred_1.49.0.tar.gz PackageFileSize: 1.053 MiB