Package: retrofit Version: 1.9.0 Command: /home/biocbuild/R/R/bin/R CMD INSTALL retrofit StartedAt: 2025-10-02 20:18:24 -0000 (Thu, 02 Oct 2025) EndedAt: 2025-10-02 20:19:00 -0000 (Thu, 02 Oct 2025) EllapsedTime: 35.4 seconds RetCode: 0 Status: OK