Package: retrofit Version: 1.9.0 Command: /home/biocbuild/bbs-3.22-bioc/R/bin/R CMD check --install=check:retrofit.install-out.txt --library=/home/biocbuild/bbs-3.22-bioc/R/site-library --timings retrofit_1.9.0.tar.gz StartedAt: 2025-10-01 03:22:03 -0400 (Wed, 01 Oct 2025) EndedAt: 2025-10-01 03:22:58 -0400 (Wed, 01 Oct 2025) EllapsedTime: 55.1 seconds RetCode: 0 Status: OK CheckDir: retrofit.Rcheck Warnings: 0