Package: regutools Version: 1.23.0 Command: /home/biocbuild/bbs-3.23-bioc/R/bin/R CMD INSTALL regutools StartedAt: 2025-11-05 15:55:24 -0500 (Wed, 05 Nov 2025) EndedAt: 2025-11-05 15:56:19 -0500 (Wed, 05 Nov 2025) EllapsedTime: 54.9 seconds RetCode: 0 Status: OK