Package: regutools Version: 1.23.0 Command: /home/biocbuild/bbs-3.23-bioc/R/bin/R CMD build --keep-empty-dirs --no-resave-data regutools StartedAt: 2025-11-04 19:28:43 -0500 (Tue, 04 Nov 2025) EndedAt: 2025-11-04 19:30:08 -0500 (Tue, 04 Nov 2025) EllapsedTime: 85.1 seconds RetCode: 0 Status: OK PackageFile: regutools_1.23.0.tar.gz PackageFileSize: 373.5 KiB