Package: regutools Version: 1.21.0 Command: /Library/Frameworks/R.framework/Resources/bin/R CMD INSTALL regutools StartedAt: 2025-10-12 15:44:27 -0400 (Sun, 12 Oct 2025) EndedAt: 2025-10-12 15:45:44 -0400 (Sun, 12 Oct 2025) EllapsedTime: 77.1 seconds RetCode: 0 Status: OK