Package: regutools Version: 1.21.0 Command: /Library/Frameworks/R.framework/Resources/bin/R CMD build --keep-empty-dirs --no-resave-data regutools StartedAt: 2025-10-12 18:50:52 -0400 (Sun, 12 Oct 2025) EndedAt: 2025-10-12 18:53:21 -0400 (Sun, 12 Oct 2025) EllapsedTime: 149.7 seconds RetCode: 0 Status: OK PackageFile: regutools_1.21.0.tar.gz PackageFileSize: 379.1 KiB