Package: regutools Version: 1.21.0 Command: rm -rf regutools.buildbin-libdir && mkdir regutools.buildbin-libdir && /Users/biocbuild/BBS/utils/build-universal.sh regutools_1.21.0.tar.gz /Library/Frameworks/R.framework/Resources/bin/R regutools.buildbin-libdir StartedAt: 2025-10-14 03:02:58 -0400 (Tue, 14 Oct 2025) EndedAt: 2025-10-14 03:04:18 -0400 (Tue, 14 Oct 2025) EllapsedTime: 79.4 seconds RetCode: 0 Status: OK PackageFile: regutools_1.21.0.tgz PackageFileSize: 945.6 KiB