Package: regutools Version: 1.23.0 Maintainer: Joselyn Chavez MaintainerEmail: joselynchavezf at gmail.com git_url: https://git.bioconductor.org/packages/regutools git_branch: devel git_last_commit: a894ec8 git_last_commit_date: 2025-10-29 10:59:10 -0400 (Wed, 29 Oct 2025)