Package: regsplice Version: 1.37.0 Command: /home/biocbuild/bbs-3.23-bioc/R/bin/R CMD INSTALL regsplice StartedAt: 2025-11-20 15:23:06 -0500 (Thu, 20 Nov 2025) EndedAt: 2025-11-20 15:23:28 -0500 (Thu, 20 Nov 2025) EllapsedTime: 21.9 seconds RetCode: 0 Status: OK