Package: regsplice Version: 1.37.0 Command: /Library/Frameworks/R.framework/Resources/bin/R CMD INSTALL regsplice StartedAt: 2025-11-21 15:29:29 -0500 (Fri, 21 Nov 2025) EndedAt: 2025-11-21 15:29:58 -0500 (Fri, 21 Nov 2025) EllapsedTime: 29.3 seconds RetCode: 0 Status: OK