Package: regsplice Version: 1.37.0 Command: /Library/Frameworks/R.framework/Resources/bin/R CMD build --keep-empty-dirs --no-resave-data regsplice StartedAt: 2025-11-20 18:23:12 -0500 (Thu, 20 Nov 2025) EndedAt: 2025-11-20 18:24:11 -0500 (Thu, 20 Nov 2025) EllapsedTime: 59.4 seconds RetCode: 0 Status: OK PackageFile: regsplice_1.37.0.tar.gz PackageFileSize: 287 KiB