Package: regsplice Version: 1.37.0 Command: rm -rf regsplice.buildbin-libdir && mkdir regsplice.buildbin-libdir && /Users/biocbuild/BBS/utils/build-universal.sh regsplice_1.37.0.tar.gz /Library/Frameworks/R.framework/Resources/bin/R regsplice.buildbin-libdir StartedAt: 2025-11-22 01:52:37 -0500 (Sat, 22 Nov 2025) EndedAt: 2025-11-22 01:53:09 -0500 (Sat, 22 Nov 2025) EllapsedTime: 32.2 seconds RetCode: 0 Status: OK PackageFile: regsplice_1.37.0.tgz PackageFileSize: 413.9 KiB