Package: regioneReloaded Version: 1.11.0 Command: /home/biocbuild/bbs-3.22-bioc/R/bin/R CMD INSTALL regioneReloaded StartedAt: 2025-10-13 15:59:58 -0400 (Mon, 13 Oct 2025) EndedAt: 2025-10-13 16:00:34 -0400 (Mon, 13 Oct 2025) EllapsedTime: 36.2 seconds RetCode: 0 Status: OK