Package: regioneReloaded Version: 1.11.0 Command: /home/biocbuild/bbs-3.22-bioc/R/bin/R CMD build --keep-empty-dirs --no-resave-data --md5 regioneReloaded StartedAt: 2025-10-13 19:38:40 -0400 (Mon, 13 Oct 2025) EndedAt: 2025-10-13 19:40:02 -0400 (Mon, 13 Oct 2025) EllapsedTime: 82.1 seconds RetCode: 0 Status: OK PackageFile: regioneReloaded_1.11.0.tar.gz PackageFileSize: 4.146 MiB