Package: regioneR Version: 1.41.3 Command: /home/biocbuild/bbs-3.22-bioc/R/bin/R CMD INSTALL regioneR StartedAt: 2025-10-10 15:45:52 -0400 (Fri, 10 Oct 2025) EndedAt: 2025-10-10 15:46:26 -0400 (Fri, 10 Oct 2025) EllapsedTime: 33.9 seconds RetCode: 0 Status: OK