Package: regioneR Version: 1.41.3 Command: /home/biocbuild/bbs-3.22-bioc/R/bin/R CMD build --keep-empty-dirs --no-resave-data --md5 regioneR StartedAt: 2025-10-10 19:45:05 -0400 (Fri, 10 Oct 2025) EndedAt: 2025-10-10 19:46:46 -0400 (Fri, 10 Oct 2025) EllapsedTime: 101.1 seconds RetCode: 0 Status: OK PackageFile: regioneR_1.41.3.tar.gz PackageFileSize: 1.978 MiB