Package: regionReport Version: 1.43.1 Command: /home/biocbuild/bbs-3.22-bioc/R/bin/R CMD INSTALL regionReport StartedAt: 2025-10-22 15:59:12 -0400 (Wed, 22 Oct 2025) EndedAt: 2025-10-22 16:00:02 -0400 (Wed, 22 Oct 2025) EllapsedTime: 50.2 seconds RetCode: 0 Status: OK