Package: recoup Version: 1.37.1 Command: /home/biocbuild/bbs-3.22-bioc/R/bin/R CMD check --install=check:recoup.install-out.txt --library=/home/biocbuild/bbs-3.22-bioc/R/site-library --timings recoup_1.37.1.tar.gz StartedAt: 2025-10-25 03:14:36 -0400 (Sat, 25 Oct 2025) EndedAt: 2025-10-25 03:22:05 -0400 (Sat, 25 Oct 2025) EllapsedTime: 449.4 seconds RetCode: 0 Status: OK CheckDir: recoup.Rcheck Warnings: 0