Package: recoup Version: 1.39.0 Command: /home/biocbuild/bbs-3.23-bioc/R/bin/R CMD INSTALL recoup StartedAt: 2025-11-02 15:45:44 -0500 (Sun, 02 Nov 2025) EndedAt: 2025-11-02 15:46:32 -0500 (Sun, 02 Nov 2025) EllapsedTime: 48.2 seconds RetCode: 0 Status: OK