Package: recoup Version: 1.37.1 Command: /Library/Frameworks/R.framework/Resources/bin/R CMD INSTALL recoup StartedAt: 2025-10-09 15:35:13 -0400 (Thu, 09 Oct 2025) EndedAt: 2025-10-09 15:36:16 -0400 (Thu, 09 Oct 2025) EllapsedTime: 62.3 seconds RetCode: 0 Status: OK