Package: recoup Version: 1.37.1 Command: /Library/Frameworks/R.framework/Resources/bin/R CMD build --keep-empty-dirs --no-resave-data recoup StartedAt: 2025-10-09 18:46:17 -0400 (Thu, 09 Oct 2025) EndedAt: 2025-10-09 18:47:34 -0400 (Thu, 09 Oct 2025) EllapsedTime: 76.5 seconds RetCode: 0 Status: OK PackageFile: recoup_1.37.1.tar.gz PackageFileSize: 2.252 MiB