Package: recoup Version: 1.37.1 Command: rm -rf recoup.buildbin-libdir && mkdir recoup.buildbin-libdir && /Users/biocbuild/BBS/utils/build-universal.sh recoup_1.37.1.tar.gz /Library/Frameworks/R.framework/Resources/bin/R recoup.buildbin-libdir StartedAt: 2025-10-10 02:54:03 -0400 (Fri, 10 Oct 2025) EndedAt: 2025-10-10 02:55:09 -0400 (Fri, 10 Oct 2025) EllapsedTime: 66.7 seconds RetCode: 0 Status: OK PackageFile: recoup_1.37.1.tgz PackageFileSize: 2.691 MiB