Package: recountmethylation Version: 1.21.0 Command: /home/biocbuild/bbs-3.23-bioc/R/bin/R CMD INSTALL recountmethylation StartedAt: 2025-11-14 15:43:45 -0500 (Fri, 14 Nov 2025) EndedAt: 2025-11-14 15:43:47 -0500 (Fri, 14 Nov 2025) EllapsedTime: 2.3 seconds RetCode: 0 Status: OK