Package: recountmethylation Version: 1.21.0 Command: /home/biocbuild/bbs-3.23-bioc/R/bin/R CMD build --keep-empty-dirs --no-resave-data recountmethylation StartedAt: 2025-11-14 19:32:54 -0500 (Fri, 14 Nov 2025) EndedAt: 2025-11-14 19:34:35 -0500 (Fri, 14 Nov 2025) EllapsedTime: 101.1 seconds RetCode: 0 Status: OK PackageFile: recountmethylation_1.21.0.tar.gz PackageFileSize: 4.823 MiB