Package: recountmethylation Version: 1.19.0 Command: /Library/Frameworks/R.framework/Resources/bin/R CMD INSTALL recountmethylation StartedAt: 2025-10-24 15:45:29 -0400 (Fri, 24 Oct 2025) EndedAt: 2025-10-24 15:45:34 -0400 (Fri, 24 Oct 2025) EllapsedTime: 4.8 seconds RetCode: 0 Status: OK