Package: recount3 Version: 1.21.0 Command: /home/biocbuild/bbs-3.23-bioc/R/bin/R CMD INSTALL recount3 StartedAt: 2025-11-20 15:32:24 -0500 (Thu, 20 Nov 2025) EndedAt: 2025-11-20 15:32:57 -0500 (Thu, 20 Nov 2025) EllapsedTime: 33.0 seconds RetCode: 0 Status: OK