Package: recount3 Version: 1.21.0 Command: /home/biocbuild/bbs-3.23-bioc/R/bin/R CMD build --keep-empty-dirs --no-resave-data recount3 StartedAt: 2025-11-20 19:32:55 -0500 (Thu, 20 Nov 2025) EndedAt: 2025-11-20 19:34:54 -0500 (Thu, 20 Nov 2025) EllapsedTime: 119.1 seconds RetCode: 0 Status: OK PackageFile: recount3_1.21.0.tar.gz PackageFileSize: 562 KiB