Package: recount3 Version: 1.19.3 Command: /Library/Frameworks/R.framework/Resources/bin/R CMD INSTALL recount3 StartedAt: 2025-10-17 15:30:39 -0400 (Fri, 17 Oct 2025) EndedAt: 2025-10-17 15:31:25 -0400 (Fri, 17 Oct 2025) EllapsedTime: 46.1 seconds RetCode: 0 Status: OK