Package: recount3 Version: 1.19.3 Command: /Library/Frameworks/R.framework/Resources/bin/R CMD build --keep-empty-dirs --no-resave-data recount3 StartedAt: 2025-10-17 18:58:35 -0400 (Fri, 17 Oct 2025) EndedAt: 2025-10-17 19:01:43 -0400 (Fri, 17 Oct 2025) EllapsedTime: 188.1 seconds RetCode: 0 Status: OK PackageFile: recount3_1.19.3.tar.gz PackageFileSize: 562.1 KiB